BEGIN:VCALENDAR
VERSION:2.0
PRODID:-//Ministry of Foreign Affairs - ECPv6.15.17.1//NONSGML v1.0//EN
CALSCALE:GREGORIAN
METHOD:PUBLISH
X-ORIGINAL-URL:https://www.foreignaffairs.gov.fj
X-WR-CALDESC:Events for Ministry of Foreign Affairs
REFRESH-INTERVAL;VALUE=DURATION:PT1H
X-Robots-Tag:noindex
X-PUBLISHED-TTL:PT1H
BEGIN:VTIMEZONE
TZID:Pacific/Auckland
BEGIN:STANDARD
TZOFFSETFROM:+1300
TZOFFSETTO:+1200
TZNAME:NZST
DTSTART:20240406T140000
END:STANDARD
BEGIN:DAYLIGHT
TZOFFSETFROM:+1200
TZOFFSETTO:+1300
TZNAME:NZDT
DTSTART:20240928T140000
END:DAYLIGHT
BEGIN:STANDARD
TZOFFSETFROM:+1300
TZOFFSETTO:+1200
TZNAME:NZST
DTSTART:20250405T140000
END:STANDARD
BEGIN:DAYLIGHT
TZOFFSETFROM:+1200
TZOFFSETTO:+1300
TZNAME:NZDT
DTSTART:20250927T140000
END:DAYLIGHT
BEGIN:STANDARD
TZOFFSETFROM:+1300
TZOFFSETTO:+1200
TZNAME:NZST
DTSTART:20260404T140000
END:STANDARD
BEGIN:DAYLIGHT
TZOFFSETFROM:+1200
TZOFFSETTO:+1300
TZNAME:NZDT
DTSTART:20260926T140000
END:DAYLIGHT
END:VTIMEZONE
BEGIN:VEVENT
DTSTART;VALUE=DATE:20250422
DTEND;VALUE=DATE:20250427
DTSTAMP:20260423T075241
CREATED:20250304T021218Z
LAST-MODIFIED:20250304T021218Z
UID:53920-1745280000-1745711999@www.foreignaffairs.gov.fj
SUMMARY:80th Commission Session - Leveraging Digital Innovation for Sustainable Development in Asia and the Pacific
DESCRIPTION:The eightieth session of the Economic and Social Commission for Asia and the Pacific (ESCAP) will be held from 22 to 26 April 2024 at the United Nations Conference Centre in Bangkok. \nGuided by the theme “Leveraging digital innovation for sustainable development in Asia and the Pacific”\, the eightieth session will be an opportunity to strengthen region-wide cooperative action on leveraging digital innovation for the accelerated implementation of the 2030 Agenda for Sustainable Development. \nThe session will bring together government leaders and ministers from across Asia and the Pacific and other key stakeholders to discuss how digital innovation can more inclusively contribute to the achievement of the Sustainable Development Goals across multiple disciplines. \nMoreover\, participants will be able to identify opportunities to fully unleash the transformative potential of digital innovations and discuss pathways to strengthen their contribution to sustainable development. A digital innovations fair will provide space to engage with a broad range of partners and stakeholders showcasing digital innovations that are already contributing to the achievement of the Sustainable Development Goals across the region.
URL:https://www.foreignaffairs.gov.fj/event/80th-commission-session-leveraging-digital-innovation-for-sustainable-development-in-asia-and-the-pacific/
ATTACH;FMTTYPE=image/png:https://www.foreignaffairs.gov.fj/wp-content/uploads/2025/03/Picture1.png
END:VEVENT
END:VCALENDAR