BEGIN:VCALENDAR
VERSION:2.0
PRODID:-//Ministry of Foreign Affairs - ECPv6.15.17.1//NONSGML v1.0//EN
CALSCALE:GREGORIAN
METHOD:PUBLISH
X-WR-CALNAME:Ministry of Foreign Affairs
X-ORIGINAL-URL:https://www.foreignaffairs.gov.fj
X-WR-CALDESC:Events for Ministry of Foreign Affairs
REFRESH-INTERVAL;VALUE=DURATION:PT1H
X-Robots-Tag:noindex
X-PUBLISHED-TTL:PT1H
BEGIN:VTIMEZONE
TZID:UTC
BEGIN:STANDARD
TZOFFSETFROM:+0000
TZOFFSETTO:+0000
TZNAME:UTC
DTSTART:20220101T000000
END:STANDARD
END:VTIMEZONE
BEGIN:VEVENT
DTSTART;VALUE=DATE:20230213
DTEND;VALUE=DATE:20230214
DTSTAMP:20260421T012012
CREATED:20240220T161453Z
LAST-MODIFIED:20240220T161549Z
UID:20347-1676246400-1676332799@www.foreignaffairs.gov.fj
SUMMARY:Prime Minister Hon. Sitiveni Rabuka delivers a statement on “Pacific solidarity” while joining Micronesian leaders at the Micronesian Presidents’ Summit held via virtual mode for the Summit held in Pohnpei\, the Federated States of Micronesia (FSM).
DESCRIPTION:
URL:https://www.foreignaffairs.gov.fj/event/1-prime-minister-hon-sitiveni-rabuka-delivers-a-statement-on-pacific-solidarity-while-joining-micronesian-leaders-at-the-micronesian-presidents-summit-held-via-virtual-mod/
CATEGORIES:Micronesia
ATTACH;FMTTYPE=image/png:https://www.foreignaffairs.gov.fj/wp-content/uploads/2024/02/Screenshot-2023-02-15-085641-1-e1708308749990.png
END:VEVENT
END:VCALENDAR